BEGIN:VCALENDAR
VERSION:2.0
PRODID:-//appserver-92315f17-nginx-f1971364e2fd47629192f0e8040889e1//NONSGM
 L kigkonsult.se iCalcreator 2.26.9//
CALSCALE:GREGORIAN
METHOD:PUBLISH
X-FROM-URL:https://411.cupe.ca
X-WR-TIMEZONE:America/Vancouver
BEGIN:VTIMEZONE
TZID:America/Vancouver
X-LIC-LOCATION:America/Vancouver
BEGIN:STANDARD
DTSTART:20251102T020000
TZOFFSETFROM:-0700
TZOFFSETTO:-0800
RDATE:20261101T020000
TZNAME:PST
END:STANDARD
BEGIN:DAYLIGHT
DTSTART:20260308T020000
TZOFFSETFROM:-0800
TZOFFSETTO:-0700
RDATE:20270314T020000
TZNAME:PDT
END:DAYLIGHT
END:VTIMEZONE
BEGIN:VEVENT
UID:ai1ec-25370@411.cupe.ca
DTSTAMP:20260421T112904Z
CATEGORIES:
CONTACT:
DTSTART;VALUE=DATE:20260428
DTEND;VALUE=DATE:20260429
SUMMARY:Workers’ Day of Mourning
URL:https://411.cupe.ca/event/workers-day-of-mourning/
X-COST-TYPE:free
END:VEVENT
BEGIN:VEVENT
UID:ai1ec-22129@411.cupe.ca
DTSTAMP:20260421T112904Z
CATEGORIES:
CONTACT:https://chilliwackpride.com/
DTSTART;TZID=America/Vancouver:20230819T100000
DTEND;TZID=America/Vancouver:20230819T160000
LOCATION:Downtown Chilliwack
SUMMARY:Chilliwack Pride
URL:https://411.cupe.ca/event/chilliwack-pride/
X-COST-TYPE:free
END:VEVENT
BEGIN:VEVENT
UID:ai1ec-22127@411.cupe.ca
DTSTAMP:20260421T112904Z
CATEGORIES:
CONTACT:
DTSTART;TZID=America/Vancouver:20230913T170000
DTEND;TZID=America/Vancouver:20230913T180000
LOCATION:2nd Floor Seminar Room @ 8472 Harvard Place\, Chilliwack\, BC\, V2
 P 7Z5
RDATE;TZID=America/Vancouver:20231018T170000
RDATE;TZID=America/Vancouver:20231115T170000
RDATE;TZID=America/Vancouver:20231213T170000
RDATE;TZID=America/Vancouver:20240117T170000
RDATE;TZID=America/Vancouver:20240214T170000
RDATE;TZID=America/Vancouver:20240313T170000
RDATE;TZID=America/Vancouver:20240417T170000
RDATE;TZID=America/Vancouver:20240515T170000
RDATE;TZID=America/Vancouver:20240612T170000
SUMMARY:CUPE 411 – Executive Meetings
URL:https://411.cupe.ca/event/cupe-411-executive-meetings/
X-COST-TYPE:free
END:VEVENT
BEGIN:VEVENT
UID:ai1ec-22124@411.cupe.ca
DTSTAMP:20260421T112904Z
CATEGORIES:
CONTACT:
DTSTART;TZID=America/Vancouver:20230916T093000
DTEND;TZID=America/Vancouver:20230916T103000
LOCATION:2nd Floor Seminar Room @ 8472 Harvard Place\, Chilliwack\, BC\, V2
 P 7Z5
RDATE;TZID=America/Vancouver:20240120T093000
SUMMARY:CUPE 411 – General Membership Meeting
URL:https://411.cupe.ca/event/cupe-411-general-membership-meeting/
X-COST-TYPE:free
END:VEVENT
BEGIN:VEVENT
UID:ai1ec-22126@411.cupe.ca
DTSTAMP:20260421T112904Z
CATEGORIES:
CONTACT:
DTSTART;TZID=America/Vancouver:20231116T190000
DTEND;TZID=America/Vancouver:20231116T200000
LOCATION:Zoom @ Link to Follow
RDATE;TZID=America/Vancouver:20240314T190000
SUMMARY:CUPE 411 – General Membership Meetings
URL:https://411.cupe.ca/event/22126/
X-COST-TYPE:free
END:VEVENT
BEGIN:VEVENT
UID:ai1ec-22128@411.cupe.ca
DTSTAMP:20260421T112904Z
CATEGORIES:
CONTACT:
DTSTART;TZID=America/Vancouver:20240525T093000
DTEND;TZID=America/Vancouver:20240525T110000
LOCATION:TBD @ TBD
SUMMARY:CUPE 411 – Annual General Meeting
URL:https://411.cupe.ca/event/cupe-411-annual-general-meeting-2/
X-COST-TYPE:free
END:VEVENT
BEGIN:VEVENT
UID:ai1ec-23155@411.cupe.ca
DTSTAMP:20260421T112904Z
CATEGORIES:
CONTACT:
DTSTART;TZID=America/Vancouver:20240918T170000
DTEND;TZID=America/Vancouver:20240918T183000
LOCATION:CUPE 411 - Office (2nd floor Seminar Room) @ 8472 Harvard Place\, 
 Chilliwack\, BC
SUMMARY:CUPE 411 – Executive Meeting
URL:https://411.cupe.ca/event/cupe-411-executive-meeting-2/
X-COST-TYPE:free
END:VEVENT
BEGIN:VEVENT
UID:ai1ec-23150@411.cupe.ca
DTSTAMP:20260421T112904Z
CATEGORIES:
CONTACT:
DTSTART;TZID=America/Vancouver:20240921T093000
DTEND;TZID=America/Vancouver:20240921T110000
LOCATION:CUPE 411 - Office (2nd floor Seminar Room) @ 8472 Harvard Place\, 
 Chilliwack\, BC
SUMMARY:CUPE 411 – General Membership Meeting
URL:https://411.cupe.ca/event/cupe-411-general-membership-meeting-2/
X-COST-TYPE:free
END:VEVENT
BEGIN:VEVENT
UID:ai1ec-23151@411.cupe.ca
DTSTAMP:20260421T112904Z
CATEGORIES:
CONTACT:
DTSTART;TZID=America/Vancouver:20241114T190000
DTEND;TZID=America/Vancouver:20241114T203000
LOCATION:CUPE 411 Office Bldg (2nd Floor Seminar Rm) @ 8472 Harvard Place\,
  Chilliwack\, BC\, V2P 7Z5
SUMMARY:CUPE 411 – General Membership Meeting
URL:https://411.cupe.ca/event/cupe-411-general-membership-meeting-3/
X-COST-TYPE:free
END:VEVENT
BEGIN:VEVENT
UID:ai1ec-23152@411.cupe.ca
DTSTAMP:20260421T112904Z
CATEGORIES:
CONTACT:
DTSTART;TZID=America/Vancouver:20250118T093000
DTEND;TZID=America/Vancouver:20250118T110000
LOCATION:CUPE 411 - Office (2nd floor Seminar Room) @ 8472 Harvard Place\, 
 Chilliwack\, BC
SUMMARY:CUPE 411 – General Membership Meeting
URL:https://411.cupe.ca/event/cupe-411-general-membership-meeting-4/
X-COST-TYPE:free
END:VEVENT
BEGIN:VEVENT
UID:ai1ec-23153@411.cupe.ca
DTSTAMP:20260421T112904Z
CATEGORIES:
CONTACT:
DTSTART;TZID=America/Vancouver:20250313T190000
DTEND;TZID=America/Vancouver:20250313T203000
LOCATION:At CUPE Office (Election for President)
SUMMARY:CUPE 411 – General Membership Meeting
URL:https://411.cupe.ca/event/cupe-411-general-membership-meeting-5/
X-COST-TYPE:free
END:VEVENT
BEGIN:VEVENT
UID:ai1ec-23154@411.cupe.ca
DTSTAMP:20260421T112904Z
CATEGORIES:
CONTACT:
DTSTART;TZID=America/Vancouver:20250524T093000
DTEND;TZID=America/Vancouver:20250524T110000
LOCATION:At CUPE Office @ (this will be an in person event)
SUMMARY:CUPE 411 – Annual General Meeting
URL:https://411.cupe.ca/event/cupe-411-annual-general-meeting-3/
X-COST-TYPE:free
END:VEVENT
BEGIN:VEVENT
UID:ai1ec-24824@411.cupe.ca
DTSTAMP:20260421T112904Z
CATEGORIES:
CONTACT:
DTSTART;TZID=America/Vancouver:20250901T110000
DTEND;TZID=America/Vancouver:20250901T140000
LOCATION:Mill Lake Park @ 32960 Mill Lake Rd\, Abbotsford
SUMMARY:FVLC Labour Day Event
URL:https://411.cupe.ca/event/fvlc-labour-day-event/
X-COST-TYPE:free
END:VEVENT
BEGIN:VEVENT
UID:ai1ec-24662@411.cupe.ca
DTSTAMP:20260421T112904Z
CATEGORIES:
CONTACT:
DTSTART;TZID=America/Vancouver:20250920T093000
DTEND;TZID=America/Vancouver:20250920T104500
LOCATION:8472 Harvard Place
SUMMARY:General Member Meeting
URL:https://411.cupe.ca/event/general-member-meeting/
X-COST-TYPE:free
END:VEVENT
BEGIN:VEVENT
UID:ai1ec-24870@411.cupe.ca
DTSTAMP:20260421T112904Z
CATEGORIES:
CONTACT:CUPE 411\; 604-392-1411\; unionoffice@411.cupe.ca\; https://411.cup
 e.ca/
DTSTART;TZID=America/Vancouver:20251022T150000
DTEND;TZID=America/Vancouver:20251022T163000
LOCATION:Imagine High IAT Secondary School @ 45669 Yale Rd\, Chilliwack
SUMMARY:CUPE Casual & New Staff Social
URL:https://411.cupe.ca/event/cupe-casual-new-staff-social/
X-COST-TYPE:free
END:VEVENT
BEGIN:VEVENT
UID:ai1ec-24663@411.cupe.ca
DTSTAMP:20260421T112904Z
CATEGORIES:
CONTACT:
DTSTART;TZID=America/Vancouver:20251113T190000
DTEND;TZID=America/Vancouver:20251113T200000
LOCATION:Zoom
SUMMARY:General Member Meeting (via Zoom)
URL:https://411.cupe.ca/event/general-member-meeting-via-zoom/
X-COST-TYPE:free
END:VEVENT
BEGIN:VEVENT
UID:ai1ec-24878@411.cupe.ca
DTSTAMP:20260421T112904Z
CATEGORIES:
CONTACT:604-392-1411\; unionoffice@411.cupe.ca\; https://411.cupe.ca/
DTSTART;TZID=America/Vancouver:20251115T123000
DTEND;TZID=America/Vancouver:20251115T133000
LOCATION:Fluxx CycleHouse @ 15-8465 Harvard Pl\, Chilliwack\, BC V2P 7Z5
SUMMARY:Recharge and Ride with CUPE
URL:https://411.cupe.ca/event/recharge-ride-with-cupe/
X-COST-TYPE:free
END:VEVENT
BEGIN:VEVENT
UID:ai1ec-24945@411.cupe.ca
DTSTAMP:20260421T112904Z
CATEGORIES:
CONTACT:unionoffice@411.cupe.ca
DTSTART;TZID=America/Vancouver:20251230T130000
DTEND;TZID=America/Vancouver:20251230T161500
LOCATION:Sardis Sports Complex @ 5725 Tyson Rd\, Chilliwack\, BC V2R 3C3
SUMMARY:SD 33 Staff Skate Party
URL:https://411.cupe.ca/event/sd-33-staff-skate-party/
X-COST-TYPE:free
END:VEVENT
BEGIN:VEVENT
UID:ai1ec-24665@411.cupe.ca
DTSTAMP:20260421T112904Z
CATEGORIES:
CONTACT:
DTSTART;TZID=America/Vancouver:20260117T093000
DTEND;TZID=America/Vancouver:20260117T110000
LOCATION:8472 Harvard Pl
SUMMARY:General Member Meeting
URL:https://411.cupe.ca/event/general-member-meeting-2/
X-COST-TYPE:free
END:VEVENT
BEGIN:VEVENT
UID:ai1ec-24666@411.cupe.ca
DTSTAMP:20260421T112904Z
CATEGORIES:
CONTACT:
DTSTART;TZID=America/Vancouver:20260312T190000
DTEND;TZID=America/Vancouver:20260312T200000
LOCATION:Zoom
SUMMARY:General Member Meeting (via Zoom)
URL:https://411.cupe.ca/event/general-member-meeting-via-zoom-2/
X-COST-TYPE:free
END:VEVENT
BEGIN:VEVENT
UID:ai1ec-25367@411.cupe.ca
DTSTAMP:20260421T112904Z
CATEGORIES:
CONTACT:
DTSTART;TZID=America/Vancouver:20260417T113000
DTEND;TZID=America/Vancouver:20260417T123000
LOCATION:To Be Determined
SUMMARY:“Say Cheese!” Pizza Party (Site Specific)
URL:https://411.cupe.ca/event/say-cheese-pizza-party-site-specific/
X-COST-TYPE:free
END:VEVENT
BEGIN:VEVENT
UID:ai1ec-24667@411.cupe.ca
DTSTAMP:20260421T112904Z
CATEGORIES:
CONTACT:
DTSTART;TZID=America/Vancouver:20260523T093000
DTEND;TZID=America/Vancouver:20260523T110000
LOCATION:CUPE 411 @ 8472 Harvard Pl
SUMMARY:Annual General Member Meeting
URL:https://411.cupe.ca/event/annual-general-member-meeting/
X-COST-TYPE:free
END:VEVENT
BEGIN:VEVENT
UID:ai1ec-25369@411.cupe.ca
DTSTAMP:20260421T112904Z
CATEGORIES:
CONTACT:
DTSTART;TZID=America/Vancouver:20260525T190000
DTEND;TZID=America/Vancouver:20260525T203000
LOCATION:The Well at Elements Casino @ 8180 Young Rd
SUMMARY:CUPE 411 PaintNite
URL:https://411.cupe.ca/event/cupe-411-paintnite/
X-COST-TYPE:free
END:VEVENT
END:VCALENDAR
